BEGIN:VCALENDAR
VERSION:2.0
PRODID:icalendar-ruby
CALSCALE:GREGORIAN
METHOD:PUBLISH
BEGIN:VEVENT
DTSTAMP:20260420T143143Z
UID:522f34d8-93c9-429a-8226-5f946c1af1f4
DTSTART:20250516T140000
DTEND:20250518T130000
DESCRIPTION:<p>The Gauntlet is heading to <strong>James and Ethel Gray Par
 k\, Melrose!</strong> Get ready for SA's ultimate travelling outdoor in
 flatable obstacle course\, covering over 2\,100 m² and towering up to 6 m
 eters tall. It's the perfect blend of fun and fitness for all ages\, offer
 ing thrills that will leave you amazed. Don’t wait—secure your spot to
 day and experience The Gauntlet in Melrose before tickets sell out!</p><
 p><span style="color: black\;">Walk-ins welcome\, but </span><strong styl
 e="color: black\;">Howler*</strong><span style="color: black\;"> bookings
  </span><strong style="color: black\;">pay less</strong><span style="colo
 r: black\;">.</span></p><p><strong style="color: black\;">Howler tickets:<
 /strong></p><p><span style="color: black\;">90 minutes        R170
 .00</span></p><p><span style="color: black\;">60 minutes        R1
 10.00</span></p><p><span style="color: black\;">30 minutes        
 R70.00</span></p><p><span style="color: black\;">Add in Flex ticket option
  R 190.00 (includes R 20 surcharge)</span></p><p><em style="color: black\;
 ">*Howler charges a non-refundable administration fee on all online bookin
 gs. Howler is our official and only online ticket merchant.</em></p><p><st
 rong style="color: black\;">Walk-ins:</strong></p><p><span style="color: b
 lack\;">90 minutes        R180.00</span></p><p><span style="color:
  black\;">60 minutes        R120.00</span></p><p><span style="colo
 r: black\;">30 minutes        R75.00</span></p><p><strong style="c
 olor: black\;">Party bookings\, team building and special occasions:</stro
 ng></p><p><span style="color: black\;">Group bookings of over 10 people ar
 e eligible for a variety of discounts and bespoke experiences\, contact <
 /span><a href="mailto:hello@gauntlet.co.za" target="_blank" style="color: 
 black\;">hello@gauntlet.co.za</a><span style="color: black\;"> to find ou
 t more.</span></p><p><span style="color: rgb(0\, 0\, 0)\;">Stay safe\, sta
 y hydrated\, and we look forward to seeing you soon!</span></p>
LOCATION:Westwood and North\, Melrose\, Johannesburg 2000
SUMMARY:The Gauntlet @ James & Ethel Gray Park Melrose
URL;VALUE=URI:https://thegauntlet.howler.co.za/jamesethelgray
END:VEVENT
END:VCALENDAR
